BEGIN:VCALENDAR
VERSION:2.0
PRODID:-//CII-IQ - ECPv6.0.9//NONSGML v1.0//EN
CALSCALE:GREGORIAN
METHOD:PUBLISH
X-WR-CALNAME:CII-IQ
X-ORIGINAL-URL:https://cii-iq.in
X-WR-CALDESC:Events for CII-IQ
REFRESH-INTERVAL;VALUE=DURATION:PT1H
X-Robots-Tag:noindex
X-PUBLISHED-TTL:PT1H
BEGIN:VTIMEZONE
TZID:Asia/Kolkata
BEGIN:STANDARD
TZOFFSETFROM:+0530
TZOFFSETTO:+0530
TZNAME:IST
DTSTART:20230101T000000
END:STANDARD
END:VTIMEZONE
BEGIN:VEVENT
DTSTART;VALUE=DATE:20230426
DTEND;VALUE=DATE:20230427
DTSTAMP:20260425T172158
CREATED:20230406T050326Z
LAST-MODIFIED:20230406T050609Z
UID:10000015-1682467200-1682553599@cii-iq.in
SUMMARY:6th CII IQ National Safety Practice Competition
DESCRIPTION:
URL:https://cii-iq.in/event/6th-cii-iq-national-safety-practice-competition/
LOCATION:CII-IQ Office\, Magadi Road\, Bengaluru\, Karnataka\, 560091\, India
ORGANIZER;CN="CII%20Institute%20of%20Quality":MAILTO:cii-iq@cii.in
END:VEVENT
BEGIN:VEVENT
DTSTART;VALUE=DATE:20230426
DTEND;VALUE=DATE:20230428
DTSTAMP:20260425T172158
CREATED:20230222T162412Z
LAST-MODIFIED:20230222T162412Z
UID:10000011-1682467200-1682639999@cii-iq.in
SUMMARY:Circle Competition
DESCRIPTION:
URL:https://cii-iq.in/event/circle-competition/
LOCATION:CII-IQ Office\, Magadi Road\, Bengaluru\, Karnataka\, 560091\, India
ORGANIZER;CN="CII%20Institute%20of%20Quality":MAILTO:cii-iq@cii.in
END:VEVENT
BEGIN:VEVENT
DTSTART;TZID=Asia/Kolkata:20230426T100000
DTEND;TZID=Asia/Kolkata:20230428T170000
DTSTAMP:20260425T172158
CREATED:20230406T050745Z
LAST-MODIFIED:20230406T050745Z
UID:10000017-1682503200-1682701200@cii-iq.in
SUMMARY:Lean Six Sigma Master Black Belt Program: Module 1
DESCRIPTION:
URL:https://cii-iq.in/event/lean-six-sigma-master-black-belt-program-module-1/
LOCATION:CII-IQ Office\, Magadi Road\, Bengaluru\, Karnataka\, 560091\, India
ORGANIZER;CN="CII%20Institute%20of%20Quality":MAILTO:cii-iq@cii.in
END:VEVENT
BEGIN:VEVENT
DTSTART;TZID=Asia/Kolkata:20230426T103000
DTEND;TZID=Asia/Kolkata:20230428T170000
DTSTAMP:20260425T172158
CREATED:20230406T050526Z
LAST-MODIFIED:20230406T050526Z
UID:10000016-1682505000-1682701200@cii-iq.in
SUMMARY:CII Workshop On Cost Cutting
DESCRIPTION:
URL:https://cii-iq.in/event/cii-workshop-on-cost-cutting/
LOCATION:CII-IQ Office\, Magadi Road\, Bengaluru\, Karnataka\, 560091\, India
ORGANIZER;CN="CII%20Institute%20of%20Quality":MAILTO:cii-iq@cii.in
END:VEVENT
END:VCALENDAR