BEGIN:VCALENDAR
VERSION:2.0
PRODID:-//CII-IQ - ECPv6.0.9//NONSGML v1.0//EN
CALSCALE:GREGORIAN
METHOD:PUBLISH
X-WR-CALNAME:CII-IQ
X-ORIGINAL-URL:https://cii-iq.in
X-WR-CALDESC:Events for CII-IQ
REFRESH-INTERVAL;VALUE=DURATION:PT1H
X-Robots-Tag:noindex
X-PUBLISHED-TTL:PT1H
BEGIN:VTIMEZONE
TZID:Asia/Kolkata
BEGIN:STANDARD
TZOFFSETFROM:+0530
TZOFFSETTO:+0530
TZNAME:IST
DTSTART:20240101T000000
END:STANDARD
END:VTIMEZONE
BEGIN:VEVENT
DTSTART;VALUE=DATE:20250623
DTEND;VALUE=DATE:20250625
DTSTAMP:20260421T170151
CREATED:20250530T052657Z
LAST-MODIFIED:20250530T052657Z
UID:10000070-1750636800-1750809599@cii-iq.in
SUMMARY:Focused Improvement Methodology (Kobetsu Kaizen)
DESCRIPTION:
URL:https://cii-iq.in/event/focused-improvement-methodology-kobetsu-kaizen/
LOCATION:CII-IQ Office\, Magadi Road\, Bengaluru\, Karnataka\, 560091\, India
ORGANIZER;CN="CII%20Institute%20of%20Quality":MAILTO:cii-iq@cii.in
END:VEVENT
BEGIN:VEVENT
DTSTART;VALUE=DATE:20250521
DTEND;VALUE=DATE:20250523
DTSTAMP:20260421T170151
CREATED:20250404T090321Z
LAST-MODIFIED:20250404T090423Z
UID:10000068-1747785600-1747958399@cii-iq.in
SUMMARY:22nd CII National Circle Competition
DESCRIPTION:
URL:https://cii-iq.in/event/22nd-cii-national-circle-competition/
LOCATION:CII-IQ Office\, Magadi Road\, Bengaluru\, Karnataka\, 560091\, India
ORGANIZER;CN="CII%20Institute%20of%20Quality":MAILTO:cii-iq@cii.in
END:VEVENT
BEGIN:VEVENT
DTSTART;TZID=Asia/Kolkata:20250428T090000
DTEND;TZID=Asia/Kolkata:20250429T160000
DTSTAMP:20260421T170151
CREATED:20250303T110542Z
LAST-MODIFIED:20250312T113804Z
UID:10000066-1745830800-1745942400@cii-iq.in
SUMMARY:18th Poka Yoke Competition
DESCRIPTION:
URL:https://cii-iq.in/event/18th-poka-yoke-competition/
LOCATION:CII-IQ Office\, Magadi Road\, Bengaluru\, Karnataka\, 560091\, India
ORGANIZER;CN="CII%20Institute%20of%20Quality":MAILTO:cii-iq@cii.in
END:VEVENT
BEGIN:VEVENT
DTSTART;VALUE=DATE:20250421
DTEND;VALUE=DATE:20250426
DTSTAMP:20260421T170151
CREATED:20250318T045524Z
LAST-MODIFIED:20250318T045524Z
UID:10000067-1745193600-1745625599@cii-iq.in
SUMMARY:52nd TPM Facilitators Course
DESCRIPTION:
URL:https://cii-iq.in/event/52nd-tpm-facilitators-course/
LOCATION:CII-IQ Office\, Magadi Road\, Bengaluru\, Karnataka\, 560091\, India
ORGANIZER;CN="CII%20Institute%20of%20Quality":MAILTO:cii-iq@cii.in
END:VEVENT
BEGIN:VEVENT
DTSTART;VALUE=DATE:20250226
DTEND;VALUE=DATE:20250301
DTSTAMP:20260421T170151
CREATED:20250122T045825Z
LAST-MODIFIED:20250122T045825Z
UID:10000063-1740528000-1740787199@cii-iq.in
SUMMARY:ROBUST PARAMETER DESIGN Taguchi Methods
DESCRIPTION:
URL:https://cii-iq.in/event/robust-parameter-design-taguchi-methods/
LOCATION:CII-IQ Office\, Magadi Road\, Bengaluru\, Karnataka\, 560091\, India
ORGANIZER;CN="CII%20Institute%20of%20Quality":MAILTO:cii-iq@cii.in
END:VEVENT
BEGIN:VEVENT
DTSTART;TZID=Asia/Kolkata:20250221T090000
DTEND;TZID=Asia/Kolkata:20250222T170000
DTSTAMP:20260421T170151
CREATED:20250119T112516Z
LAST-MODIFIED:20250129T072632Z
UID:10000062-1740128400-1740243600@cii-iq.in
SUMMARY:51st CII National Kai-zen Competition
DESCRIPTION:
URL:https://cii-iq.in/event/52nd-cii-national-kai-zen-competition/
LOCATION:CII-IQ Office\, Magadi Road\, Bengaluru\, Karnataka\, 560091\, India
ORGANIZER;CN="CII%20Institute%20of%20Quality":MAILTO:cii-iq@cii.in
END:VEVENT
BEGIN:VEVENT
DTSTART;VALUE=DATE:20250203
DTEND;VALUE=DATE:20250214
DTSTAMP:20260421T170151
CREATED:20240612T072200Z
LAST-MODIFIED:20240612T072236Z
UID:10000047-1738540800-1739491199@cii-iq.in
SUMMARY:JUSE International Seminar on TQM | Winter
DESCRIPTION:
URL:https://cii-iq.in/event/juse-international-seminar-on-tqm-winter/
LOCATION:CII-IQ Office\, Magadi Road\, Bengaluru\, Karnataka\, 560091\, India
ORGANIZER;CN="CII%20Institute%20of%20Quality":MAILTO:cii-iq@cii.in
END:VEVENT
BEGIN:VEVENT
DTSTART;VALUE=DATE:20250129
DTEND;VALUE=DATE:20250131
DTSTAMP:20260421T170151
CREATED:20241209T051659Z
LAST-MODIFIED:20241214T122859Z
UID:10000061-1738108800-1738281599@cii-iq.in
SUMMARY:Competition on Human Mistake Proofing (POKA YOKE)
DESCRIPTION:
URL:https://cii-iq.in/event/competition-on-human-mistake-proofing-poka-yoke/
LOCATION:CII-IQ Office\, Magadi Road\, Bengaluru\, Karnataka\, 560091\, India
ORGANIZER;CN="CII%20Institute%20of%20Quality":MAILTO:cii-iq@cii.in
END:VEVENT
BEGIN:VEVENT
DTSTART;VALUE=DATE:20241210
DTEND;VALUE=DATE:20241213
DTSTAMP:20260421T170151
CREATED:20241119T135531Z
LAST-MODIFIED:20241119T135531Z
UID:10000060-1733788800-1734047999@cii-iq.in
SUMMARY:The Champions’ Trophy 2024
DESCRIPTION:
URL:https://cii-iq.in/event/the-champions-trophy-2024/
LOCATION:CII-IQ Office\, Magadi Road\, Bengaluru\, Karnataka\, 560091\, India
ORGANIZER;CN="CII%20Institute%20of%20Quality":MAILTO:cii-iq@cii.in
END:VEVENT
BEGIN:VEVENT
DTSTART;VALUE=DATE:20241126
DTEND;VALUE=DATE:20241127
DTSTAMP:20260421T170151
CREATED:20241106T051135Z
LAST-MODIFIED:20241106T051135Z
UID:10000059-1732579200-1732665599@cii-iq.in
SUMMARY:1 Day Masterclass on Improving Cost of Quality to Enhance Profitability
DESCRIPTION:
URL:https://cii-iq.in/event/1-day-masterclass-on-improving-cost-of-quality-to-enhance-profitability/
LOCATION:Taj Bengaluru Airport\, Karnataka\, India
ORGANIZER;CN="CII%20Institute%20of%20Quality":MAILTO:cii-iq@cii.in
END:VEVENT
BEGIN:VEVENT
DTSTART;VALUE=DATE:20241114
DTEND;VALUE=DATE:20241116
DTSTAMP:20260421T170151
CREATED:20241030T133212Z
LAST-MODIFIED:20241030T133212Z
UID:10000058-1731542400-1731715199@cii-iq.in
SUMMARY:Industrial Visits
DESCRIPTION:
URL:https://cii-iq.in/event/industrial-visits-2/
LOCATION:CII-IQ Office\, Magadi Road\, Bengaluru\, Karnataka\, 560091\, India
ORGANIZER;CN="CII%20Institute%20of%20Quality":MAILTO:cii-iq@cii.in
END:VEVENT
BEGIN:VEVENT
DTSTART;VALUE=DATE:20241112
DTEND;VALUE=DATE:20241113
DTSTAMP:20260421T170151
CREATED:20241030T133123Z
LAST-MODIFIED:20241030T133123Z
UID:10000057-1731369600-1731455999@cii-iq.in
SUMMARY:Industrial Visits
DESCRIPTION:
URL:https://cii-iq.in/event/industrial-visits/
LOCATION:CII-IQ Office\, Magadi Road\, Bengaluru\, Karnataka\, 560091\, India
ORGANIZER;CN="CII%20Institute%20of%20Quality":MAILTO:cii-iq@cii.in
END:VEVENT
BEGIN:VEVENT
DTSTART;VALUE=DATE:20241111
DTEND;VALUE=DATE:20241116
DTSTAMP:20260421T170151
CREATED:20240730T094935Z
LAST-MODIFIED:20240730T095006Z
UID:10000054-1731283200-1731715199@cii-iq.in
SUMMARY:51st TPM FACILITATORS COURSE
DESCRIPTION:
URL:https://cii-iq.in/event/51st-tpm-facilitators-course/
LOCATION:CII-IQ Office\, Magadi Road\, Bengaluru\, Karnataka\, 560091\, India
ORGANIZER;CN="CII%20Institute%20of%20Quality":MAILTO:cii-iq@cii.in
END:VEVENT
BEGIN:VEVENT
DTSTART;TZID=Asia/Kolkata:20241023T090000
DTEND;TZID=Asia/Kolkata:20241024T150000
DTSTAMP:20260421T170151
CREATED:20240730T094758Z
LAST-MODIFIED:20240920T132713Z
UID:10000053-1729674000-1729782000@cii-iq.in
SUMMARY:50th CII National Kai-Zen Competition
DESCRIPTION:
URL:https://cii-iq.in/event/50th-cii-national-kai-zen-competition/
LOCATION:CII-IQ Office\, Magadi Road\, Bengaluru\, Karnataka\, 560091\, India
ORGANIZER;CN="CII%20Institute%20of%20Quality":MAILTO:cii-iq@cii.in
END:VEVENT
BEGIN:VEVENT
DTSTART;VALUE=DATE:20241017
DTEND;VALUE=DATE:20241019
DTSTAMP:20260421T170151
CREATED:20240927T103406Z
LAST-MODIFIED:20240927T103406Z
UID:10000056-1729123200-1729295999@cii-iq.in
SUMMARY:CII – National Level 5S Competition
DESCRIPTION:
URL:https://cii-iq.in/event/cii-national-level-5s-competition/
LOCATION:CII-IQ Office\, Magadi Road\, Bengaluru\, Karnataka\, 560091\, India
ORGANIZER;CN="CII%20Institute%20of%20Quality":MAILTO:cii-iq@cii.in
END:VEVENT
BEGIN:VEVENT
DTSTART;VALUE=DATE:20240911
DTEND;VALUE=DATE:20240912
DTSTAMP:20260421T170151
CREATED:20240730T053037Z
LAST-MODIFIED:20240730T053037Z
UID:10000052-1726012800-1726099199@cii-iq.in
SUMMARY:Masterclass on Maximizing Profitability Through Design
DESCRIPTION:
URL:https://cii-iq.in/event/masterclass-on-maximizing-profitability-through-design/
LOCATION:CII-IQ Office\, Magadi Road\, Bengaluru\, Karnataka\, 560091\, India
ORGANIZER;CN="CII%20Institute%20of%20Quality":MAILTO:cii-iq@cii.in
END:VEVENT
BEGIN:VEVENT
DTSTART;VALUE=DATE:20240828
DTEND;VALUE=DATE:20240831
DTSTAMP:20260421T170151
CREATED:20240730T051038Z
LAST-MODIFIED:20240730T051902Z
UID:10000051-1724803200-1725062399@cii-iq.in
SUMMARY:3 Day Certification Program on RELIABILITY ENGINEERING
DESCRIPTION:
URL:https://cii-iq.in/event/3-day-certification-program-on-reliability-engineering/
LOCATION:CII-IQ Office\, Magadi Road\, Bengaluru\, Karnataka\, 560091\, India
ORGANIZER;CN="CII%20Institute%20of%20Quality":MAILTO:cii-iq@cii.in
END:VEVENT
BEGIN:VEVENT
DTSTART;VALUE=DATE:20240825
DTEND;VALUE=DATE:20240905
DTSTAMP:20260421T170151
CREATED:20240612T072132Z
LAST-MODIFIED:20240612T072132Z
UID:10000046-1724544000-1725494399@cii-iq.in
SUMMARY:JUSE International Seminar on TQM | Summer
DESCRIPTION:
URL:https://cii-iq.in/event/juse-international-seminar-on-tqm-summer/
LOCATION:CII-IQ Office\, Magadi Road\, Bengaluru\, Karnataka\, 560091\, India
ORGANIZER;CN="CII%20Institute%20of%20Quality":MAILTO:cii-iq@cii.in
END:VEVENT
BEGIN:VEVENT
DTSTART;VALUE=DATE:20240823
DTEND;VALUE=DATE:20240825
DTSTAMP:20260421T170151
CREATED:20240711T063735Z
LAST-MODIFIED:20240711T063735Z
UID:10000049-1724371200-1724543999@cii-iq.in
SUMMARY:CII National Technology Competition | Online
DESCRIPTION:
URL:https://cii-iq.in/event/cii-national-technology-competition-online/
LOCATION:CII-IQ Office\, Magadi Road\, Bengaluru\, Karnataka\, 560091\, India
ORGANIZER;CN="CII%20Institute%20of%20Quality":MAILTO:cii-iq@cii.in
END:VEVENT
BEGIN:VEVENT
DTSTART;VALUE=DATE:20240820
DTEND;VALUE=DATE:20240825
DTSTAMP:20260421T170151
CREATED:20240603T143152Z
LAST-MODIFIED:20240603T143431Z
UID:10000045-1724112000-1724543999@cii-iq.in
SUMMARY:50th TPM Facilitators Course\, Pune
DESCRIPTION:
URL:https://cii-iq.in/event/50th-tpm-facilitators-course/
LOCATION:CII-IQ Office\, Magadi Road\, Bengaluru\, Karnataka\, 560091\, India
ORGANIZER;CN="CII%20Institute%20of%20Quality":MAILTO:cii-iq@cii.in
END:VEVENT
BEGIN:VEVENT
DTSTART;TZID=Asia/Kolkata:20240801T090000
DTEND;TZID=Asia/Kolkata:20240802T170000
DTSTAMP:20260421T170151
CREATED:20240619T055221Z
LAST-MODIFIED:20240619T055221Z
UID:10000048-1722502800-1722618000@cii-iq.in
SUMMARY:Two Day Seminar on Makigami Analysis
DESCRIPTION:
URL:https://cii-iq.in/event/two-day-seminar-on-makigami-analysis/
LOCATION:CII-IQ Office\, Magadi Road\, Bengaluru\, Karnataka\, 560091\, India
ORGANIZER;CN="CII%20Institute%20of%20Quality":MAILTO:cii-iq@cii.in
END:VEVENT
BEGIN:VEVENT
DTSTART;TZID=Asia/Kolkata:20240731T093000
DTEND;TZID=Asia/Kolkata:20240731T193000
DTSTAMP:20260421T170151
CREATED:20240711T091411Z
LAST-MODIFIED:20240711T091411Z
UID:10000050-1722418200-1722454200@cii-iq.in
SUMMARY:Training Program on Strategic Process for Operators Involvement  in Improvement Process Deployment of Jishu Hozen
DESCRIPTION:
URL:https://cii-iq.in/event/training-program-on-strategic-process-for-operators-involvement-in-improvement-process-deployment-of-jishu-hozen/
LOCATION:CII-IQ Office\, Magadi Road\, Bengaluru\, Karnataka\, 560091\, India
ORGANIZER;CN="CII%20Institute%20of%20Quality":MAILTO:cii-iq@cii.in
END:VEVENT
BEGIN:VEVENT
DTSTART;TZID=Asia/Kolkata:20240718T090000
DTEND;TZID=Asia/Kolkata:20240719T160000
DTSTAMP:20260421T170151
CREATED:20240531T110830Z
LAST-MODIFIED:20240531T110830Z
UID:10000044-1721293200-1721404800@cii-iq.in
SUMMARY:16th Poka Yoke Competition
DESCRIPTION:
URL:https://cii-iq.in/event/16th-poka-yoke-competition/
LOCATION:Chennai
ORGANIZER;CN="CII%20Institute%20of%20Quality":MAILTO:cii-iq@cii.in
END:VEVENT
BEGIN:VEVENT
DTSTART;TZID=Asia/Kolkata:20240627T090000
DTEND;TZID=Asia/Kolkata:20240628T170000
DTSTAMP:20260421T170151
CREATED:20240507T090635Z
LAST-MODIFIED:20240507T090635Z
UID:10000043-1719478800-1719594000@cii-iq.in
SUMMARY:49th CII National Kai Zen Competition
DESCRIPTION:
URL:https://cii-iq.in/event/49th-cii-national-kai-zen-competition/
LOCATION:Chennai
ORGANIZER;CN="CII%20Institute%20of%20Quality":MAILTO:cii-iq@cii.in
END:VEVENT
BEGIN:VEVENT
DTSTART;VALUE=DATE:20240423
DTEND;VALUE=DATE:20240425
DTSTAMP:20260421T170151
CREATED:20240222T053730Z
LAST-MODIFIED:20240304T070455Z
UID:10000040-1713830400-1714003199@cii-iq.in
SUMMARY:20th CII Circle Competition
DESCRIPTION:
URL:https://cii-iq.in/event/20th-cii-circle-competition/
LOCATION:Chennai
ORGANIZER;CN="CII%20Institute%20of%20Quality":MAILTO:cii-iq@cii.in
END:VEVENT
BEGIN:VEVENT
DTSTART;TZID=Asia/Kolkata:20240314T100000
DTEND;TZID=Asia/Kolkata:20240315T170000
DTSTAMP:20260421T170151
CREATED:20240202T063234Z
LAST-MODIFIED:20240202T063234Z
UID:10000039-1710410400-1710522000@cii-iq.in
SUMMARY:2 day Training Programme on Through Neck Analysis (TNA)
DESCRIPTION:
URL:https://cii-iq.in/event/2-day-training-programme-on-through-neck-analysis-tna/
LOCATION:Chennai
ORGANIZER;CN="CII%20Institute%20of%20Quality":MAILTO:cii-iq@cii.in
END:VEVENT
BEGIN:VEVENT
DTSTART;VALUE=DATE:20240313
DTEND;VALUE=DATE:20240314
DTSTAMP:20260421T170151
CREATED:20240223T114439Z
LAST-MODIFIED:20240223T114452Z
UID:10000042-1710288000-1710374399@cii-iq.in
SUMMARY:Laboratory Infrastructure sensitization Programme
DESCRIPTION:
URL:https://cii-iq.in/event/laboratory-infrastructure-sensitization-programme/
LOCATION:Chennai
ORGANIZER;CN="CII%20Institute%20of%20Quality":MAILTO:cii-iq@cii.in
END:VEVENT
BEGIN:VEVENT
DTSTART;VALUE=DATE:20240312
DTEND;VALUE=DATE:20240313
DTSTAMP:20260421T170151
CREATED:20240223T114257Z
LAST-MODIFIED:20240223T114257Z
UID:10000041-1710201600-1710287999@cii-iq.in
SUMMARY:Sensitization program on Quality Control Orders
DESCRIPTION:
URL:https://cii-iq.in/event/sensitization-program-on-quality-control-orders/
LOCATION:Chennai
ORGANIZER;CN="CII%20Institute%20of%20Quality":MAILTO:cii-iq@cii.in
END:VEVENT
BEGIN:VEVENT
DTSTART;VALUE=DATE:20240311
DTEND;VALUE=DATE:20240316
DTSTAMP:20260421T170151
CREATED:20240109T074422Z
LAST-MODIFIED:20240109T074422Z
UID:10000037-1710115200-1710547199@cii-iq.in
SUMMARY:8th JIPM-TPM Facilitators Course [5-Day Certification Program]
DESCRIPTION:
URL:https://cii-iq.in/event/8th-jipm-tpm-facilitators-course-5-day-certification-program/
LOCATION:CII-IQ Office\, Magadi Road\, Bengaluru\, Karnataka\, 560091\, India
ORGANIZER;CN="CII%20Institute%20of%20Quality":MAILTO:cii-iq@cii.in
END:VEVENT
BEGIN:VEVENT
DTSTART;TZID=Asia/Kolkata:20240209T100000
DTEND;TZID=Asia/Kolkata:20240209T123000
DTSTAMP:20260421T170151
CREATED:20240118T074823Z
LAST-MODIFIED:20240202T062840Z
UID:10000038-1707472800-1707481800@cii-iq.in
SUMMARY:Industry 4.0 – The Next Leap Forward In Manufacturing Excellence
DESCRIPTION:
URL:https://cii-iq.in/event/industry-4-0-the-next-leap-forward-in-manufacturing-excellence/
LOCATION:CII-IQ Office\, Magadi Road\, Bengaluru\, Karnataka\, 560091\, India
ORGANIZER;CN="CII%20Institute%20of%20Quality":MAILTO:cii-iq@cii.in
END:VEVENT
END:VCALENDAR