BEGIN:VCALENDAR
VERSION:2.0
PRODID:-//CII-IQ - ECPv6.0.9//NONSGML v1.0//EN
CALSCALE:GREGORIAN
METHOD:PUBLISH
X-ORIGINAL-URL:https://cii-iq.in
X-WR-CALDESC:Events for CII-IQ
REFRESH-INTERVAL;VALUE=DURATION:PT1H
X-Robots-Tag:noindex
X-PUBLISHED-TTL:PT1H
BEGIN:VTIMEZONE
TZID:Asia/Kolkata
BEGIN:STANDARD
TZOFFSETFROM:+0530
TZOFFSETTO:+0530
TZNAME:IST
DTSTART:20230101T000000
END:STANDARD
END:VTIMEZONE
BEGIN:VEVENT
DTSTART;VALUE=DATE:20240423
DTEND;VALUE=DATE:20240425
DTSTAMP:20260421T195628
CREATED:20240222T053730Z
LAST-MODIFIED:20240304T070455Z
UID:10000040-1713830400-1714003199@cii-iq.in
SUMMARY:20th CII Circle Competition
DESCRIPTION:
URL:https://cii-iq.in/event/20th-cii-circle-competition/
LOCATION:Chennai
ORGANIZER;CN="CII%20Institute%20of%20Quality":MAILTO:cii-iq@cii.in
END:VEVENT
BEGIN:VEVENT
DTSTART;TZID=Asia/Kolkata:20240314T100000
DTEND;TZID=Asia/Kolkata:20240315T170000
DTSTAMP:20260421T195628
CREATED:20240202T063234Z
LAST-MODIFIED:20240202T063234Z
UID:10000039-1710410400-1710522000@cii-iq.in
SUMMARY:2 day Training Programme on Through Neck Analysis (TNA)
DESCRIPTION:
URL:https://cii-iq.in/event/2-day-training-programme-on-through-neck-analysis-tna/
LOCATION:Chennai
ORGANIZER;CN="CII%20Institute%20of%20Quality":MAILTO:cii-iq@cii.in
END:VEVENT
BEGIN:VEVENT
DTSTART;VALUE=DATE:20240313
DTEND;VALUE=DATE:20240314
DTSTAMP:20260421T195628
CREATED:20240223T114439Z
LAST-MODIFIED:20240223T114452Z
UID:10000042-1710288000-1710374399@cii-iq.in
SUMMARY:Laboratory Infrastructure sensitization Programme
DESCRIPTION:
URL:https://cii-iq.in/event/laboratory-infrastructure-sensitization-programme/
LOCATION:Chennai
ORGANIZER;CN="CII%20Institute%20of%20Quality":MAILTO:cii-iq@cii.in
END:VEVENT
BEGIN:VEVENT
DTSTART;VALUE=DATE:20240312
DTEND;VALUE=DATE:20240313
DTSTAMP:20260421T195628
CREATED:20240223T114257Z
LAST-MODIFIED:20240223T114257Z
UID:10000041-1710201600-1710287999@cii-iq.in
SUMMARY:Sensitization program on Quality Control Orders
DESCRIPTION:
URL:https://cii-iq.in/event/sensitization-program-on-quality-control-orders/
LOCATION:Chennai
ORGANIZER;CN="CII%20Institute%20of%20Quality":MAILTO:cii-iq@cii.in
END:VEVENT
BEGIN:VEVENT
DTSTART;VALUE=DATE:20240311
DTEND;VALUE=DATE:20240316
DTSTAMP:20260421T195628
CREATED:20240109T074422Z
LAST-MODIFIED:20240109T074422Z
UID:10000037-1710115200-1710547199@cii-iq.in
SUMMARY:8th JIPM-TPM Facilitators Course [5-Day Certification Program]
DESCRIPTION:
URL:https://cii-iq.in/event/8th-jipm-tpm-facilitators-course-5-day-certification-program/
LOCATION:CII-IQ Office\, Magadi Road\, Bengaluru\, Karnataka\, 560091\, India
ORGANIZER;CN="CII%20Institute%20of%20Quality":MAILTO:cii-iq@cii.in
END:VEVENT
BEGIN:VEVENT
DTSTART;TZID=Asia/Kolkata:20240209T100000
DTEND;TZID=Asia/Kolkata:20240209T123000
DTSTAMP:20260421T195628
CREATED:20240118T074823Z
LAST-MODIFIED:20240202T062840Z
UID:10000038-1707472800-1707481800@cii-iq.in
SUMMARY:Industry 4.0 – The Next Leap Forward In Manufacturing Excellence
DESCRIPTION:
URL:https://cii-iq.in/event/industry-4-0-the-next-leap-forward-in-manufacturing-excellence/
LOCATION:CII-IQ Office\, Magadi Road\, Bengaluru\, Karnataka\, 560091\, India
ORGANIZER;CN="CII%20Institute%20of%20Quality":MAILTO:cii-iq@cii.in
END:VEVENT
BEGIN:VEVENT
DTSTART;VALUE=DATE:20240124
DTEND;VALUE=DATE:20240126
DTSTAMP:20260421T195628
CREATED:20240109T074326Z
LAST-MODIFIED:20240109T074429Z
UID:10000036-1706054400-1706227199@cii-iq.in
SUMMARY:CII National 3M Competition (MUDA\,MURA & MURI)
DESCRIPTION:
URL:https://cii-iq.in/event/cii-national-3m-competition-mudamura-muri/
LOCATION:CII-IQ Office\, Magadi Road\, Bengaluru\, Karnataka\, 560091\, India
ORGANIZER;CN="CII%20Institute%20of%20Quality":MAILTO:cii-iq@cii.in
END:VEVENT
BEGIN:VEVENT
DTSTART;VALUE=DATE:20231214
DTEND;VALUE=DATE:20231216
DTSTAMP:20260421T195628
CREATED:20231018T070224Z
LAST-MODIFIED:20231018T070310Z
UID:10000033-1702512000-1702684799@cii-iq.in
SUMMARY:The Champions’ Trophy-2023 (For all platinum winners only)
DESCRIPTION:Virtual Competition & Physical Award Ceremony\n14k for Kaizen platinum winners & 10k for others\nLast date to register: 1st December 2023\nPhysical Award ceremony on 20th December at Bangalore
URL:https://cii-iq.in/event/jipm-tpm-facilitators-course-5-day-certification-course/
LOCATION:CII-IQ Office\, Magadi Road\, Bengaluru\, Karnataka\, 560091\, India
ORGANIZER;CN="CII%20Institute%20of%20Quality":MAILTO:cii-iq@cii.in
END:VEVENT
BEGIN:VEVENT
DTSTART;VALUE=DATE:20231201
DTEND;VALUE=DATE:20231202
DTSTAMP:20260421T195628
CREATED:20231114T060229Z
LAST-MODIFIED:20231114T060229Z
UID:10000035-1701388800-1701475199@cii-iq.in
SUMMARY:Masterclass on POKA YOKE- OUTCOME BASED APPROACH
DESCRIPTION:
URL:https://cii-iq.in/event/masterclass-on-poka-yoke-outcome-based-approach/
LOCATION:CII-IQ Office\, Magadi Road\, Bengaluru\, Karnataka\, 560091\, India
ORGANIZER;CN="CII%20Institute%20of%20Quality":MAILTO:cii-iq@cii.in
END:VEVENT
BEGIN:VEVENT
DTSTART;TZID=Asia/Kolkata:20231121T090000
DTEND;TZID=Asia/Kolkata:20231122T170000
DTSTAMP:20260421T195628
CREATED:20230825T154957Z
LAST-MODIFIED:20231018T062621Z
UID:10000031-1700557200-1700672400@cii-iq.in
SUMMARY:47th CII National Kai-Zen Competition
DESCRIPTION:
URL:https://cii-iq.in/event/47th-cii-national-kai-zen-competition/
LOCATION:CII-IQ Office\, Magadi Road\, Bengaluru\, Karnataka\, 560091\, India
ORGANIZER;CN="CII%20Institute%20of%20Quality":MAILTO:cii-iq@cii.in
END:VEVENT
BEGIN:VEVENT
DTSTART;VALUE=DATE:20231107
DTEND;VALUE=DATE:20231111
DTSTAMP:20260421T195628
CREATED:20230807T055858Z
LAST-MODIFIED:20230807T055858Z
UID:10000027-1699315200-1699660799@cii-iq.in
SUMMARY:Learning Mission & Visit to Dubai Excellence Organization
DESCRIPTION:
URL:https://cii-iq.in/event/learning-mission-visit-to-dubai-excellence-organization/
LOCATION:CII-IQ Office\, Magadi Road\, Bengaluru\, Karnataka\, 560091\, India
ORGANIZER;CN="CII%20Institute%20of%20Quality":MAILTO:cii-iq@cii.in
END:VEVENT
BEGIN:VEVENT
DTSTART;VALUE=DATE:20231016
DTEND;VALUE=DATE:20231021
DTSTAMP:20260421T195628
CREATED:20231018T070434Z
LAST-MODIFIED:20231018T070434Z
UID:10000034-1697414400-1697846399@cii-iq.in
SUMMARY:JIPM-TPM Facilitators Course (5-Day certification course)
DESCRIPTION:Last date to register: 6th October\nFee: 75\,000/- plus GST per team\nLocation: Chennai
URL:https://cii-iq.in/event/jipm-tpm-facilitators-course-5-day-certification-course-2/
LOCATION:CII-IQ Office\, Magadi Road\, Bengaluru\, Karnataka\, 560091\, India
ORGANIZER;CN="CII%20Institute%20of%20Quality":MAILTO:cii-iq@cii.in
END:VEVENT
BEGIN:VEVENT
DTSTART;VALUE=DATE:20231009
DTEND;VALUE=DATE:20231015
DTSTAMP:20260421T195628
CREATED:20230614T160014Z
LAST-MODIFIED:20230807T055700Z
UID:10000026-1696809600-1697327999@cii-iq.in
SUMMARY:TPM/Best Manufacturing Practice Study Mission to Japan
DESCRIPTION:
URL:https://cii-iq.in/event/tpm-best-manufacturing-practice-study-mission-to-japan/
LOCATION:CII-IQ Office\, Magadi Road\, Bengaluru\, Karnataka\, 560091\, India
ORGANIZER;CN="CII%20Institute%20of%20Quality":MAILTO:cii-iq@cii.in
END:VEVENT
BEGIN:VEVENT
DTSTART;VALUE=DATE:20230928
DTEND;VALUE=DATE:20230930
DTSTAMP:20260421T195628
CREATED:20230808T084534Z
LAST-MODIFIED:20230808T084534Z
UID:10000030-1695859200-1696031999@cii-iq.in
SUMMARY:23rd TPM National Conference
DESCRIPTION:
URL:https://cii-iq.in/event/23rd-tpm-national-conference/
LOCATION:CII-IQ Office\, Magadi Road\, Bengaluru\, Karnataka\, 560091\, India
ORGANIZER;CN="CII%20Institute%20of%20Quality":MAILTO:cii-iq@cii.in
END:VEVENT
BEGIN:VEVENT
DTSTART;VALUE=DATE:20230927
DTEND;VALUE=DATE:20230928
DTSTAMP:20260421T195628
CREATED:20230808T084343Z
LAST-MODIFIED:20230808T084343Z
UID:10000029-1695772800-1695859199@cii-iq.in
SUMMARY:Masterclass: Predictive Maintenance Technologies – Pdm
DESCRIPTION:
URL:https://cii-iq.in/event/masterclass-predictive-maintenance-technologies-pdm/
LOCATION:CII-IQ Office\, Magadi Road\, Bengaluru\, Karnataka\, 560091\, India
ORGANIZER;CN="CII%20Institute%20of%20Quality":MAILTO:cii-iq@cii.in
END:VEVENT
BEGIN:VEVENT
DTSTART;TZID=Asia/Kolkata:20230921T090000
DTEND;TZID=Asia/Kolkata:20231121T160000
DTSTAMP:20260421T195628
CREATED:20230829T051534Z
LAST-MODIFIED:20230829T051534Z
UID:10000032-1695286800-1700582400@cii-iq.in
SUMMARY:14th Edition of CII National POKA YOKE Competition
DESCRIPTION:
URL:https://cii-iq.in/event/14th-edition-of-cii-national-poka-yoke-competition/
LOCATION:CII-IQ Office\, Magadi Road\, Bengaluru\, Karnataka\, 560091\, India
ORGANIZER;CN="CII%20Institute%20of%20Quality":MAILTO:cii-iq@cii.in
END:VEVENT
BEGIN:VEVENT
DTSTART;VALUE=DATE:20230911
DTEND;VALUE=DATE:20230917
DTSTAMP:20260421T195628
CREATED:20230807T060344Z
LAST-MODIFIED:20230807T060344Z
UID:10000028-1694390400-1694908799@cii-iq.in
SUMMARY:TWIN TRANSITION: Enabling Smart Manufacturing
DESCRIPTION:
URL:https://cii-iq.in/event/twin-transition-enabling-smart-manufacturing/
LOCATION:CII-IQ Office\, Magadi Road\, Bengaluru\, Karnataka\, 560091\, India
ORGANIZER;CN="CII%20Institute%20of%20Quality":MAILTO:cii-iq@cii.in
END:VEVENT
BEGIN:VEVENT
DTSTART;VALUE=DATE:20230809
DTEND;VALUE=DATE:20230811
DTSTAMP:20260421T195628
CREATED:20230204T160501Z
LAST-MODIFIED:20230207T164918Z
UID:10000001-1691539200-1691711999@cii-iq.in
SUMMARY:11th CII National Excellence Practice Competition
DESCRIPTION:
URL:https://cii-iq.in/event/11th-cii-national-excellence-practice-competition/
LOCATION:CII-IQ Office\, Magadi Road\, Bengaluru\, Karnataka\, 560091\, India
ORGANIZER;CN="CII%20Institute%20of%20Quality":MAILTO:cii-iq@cii.in
END:VEVENT
BEGIN:VEVENT
DTSTART;TZID=Asia/Kolkata:20230726T090000
DTEND;TZID=Asia/Kolkata:20230727T170000
DTSTAMP:20260421T195628
CREATED:20230504T172934Z
LAST-MODIFIED:20230621T072000Z
UID:10000022-1690362000-1690477200@cii-iq.in
SUMMARY:46th National Kaizen Competition
DESCRIPTION:
URL:https://cii-iq.in/event/65th-national-kaizen-competition/
LOCATION:CII-IQ Office\, Magadi Road\, Bengaluru\, Karnataka\, 560091\, India
ORGANIZER;CN="CII%20Institute%20of%20Quality":MAILTO:cii-iq@cii.in
END:VEVENT
BEGIN:VEVENT
DTSTART;VALUE=DATE:20230706
DTEND;VALUE=DATE:20230708
DTSTAMP:20260421T195628
CREATED:20230511T151919Z
LAST-MODIFIED:20230511T151919Z
UID:10000023-1688601600-1688774399@cii-iq.in
SUMMARY:CII National Competition on Low Cost Automation (LCA)
DESCRIPTION:
URL:https://cii-iq.in/event/cii-national-competition-on-low-cost-automation-lca/
LOCATION:Online
ORGANIZER;CN="CII%20Institute%20of%20Quality":MAILTO:cii-iq@cii.in
END:VEVENT
BEGIN:VEVENT
DTSTART;VALUE=DATE:20230622
DTEND;VALUE=DATE:20230624
DTSTAMP:20260421T195628
CREATED:20230504T172601Z
LAST-MODIFIED:20230516T080800Z
UID:10000021-1687392000-1687564799@cii-iq.in
SUMMARY:16th Edition 3M Competition
DESCRIPTION:
URL:https://cii-iq.in/event/16th-edition-3m-competition/
LOCATION:CII-IQ Office\, Magadi Road\, Bengaluru\, Karnataka\, 560091\, India
ORGANIZER;CN="CII%20Institute%20of%20Quality":MAILTO:cii-iq@cii.in
END:VEVENT
BEGIN:VEVENT
DTSTART;VALUE=DATE:20230614
DTEND;VALUE=DATE:20230617
DTSTAMP:20260421T195628
CREATED:20230504T172109Z
LAST-MODIFIED:20230518T061446Z
UID:10000020-1686700800-1686959999@cii-iq.in
SUMMARY:Workshop on Reliability Engineering
DESCRIPTION:
URL:https://cii-iq.in/event/workshop-on-reliability-engineering/
LOCATION:Chennai
ORGANIZER;CN="CII%20Institute%20of%20Quality":MAILTO:cii-iq@cii.in
END:VEVENT
BEGIN:VEVENT
DTSTART;VALUE=DATE:20230601
DTEND;VALUE=DATE:20240101
DTSTAMP:20260421T195628
CREATED:20230516T081033Z
LAST-MODIFIED:20230516T081033Z
UID:10000024-1685577600-1704067199@cii-iq.in
SUMMARY:Webinar Series JIPM-TPM CASE STUDIES & CONCEPTS
DESCRIPTION:
URL:https://cii-iq.in/event/webinar-series-jipm-tpm-case-studies-concepts/
LOCATION:CII-IQ Office\, Magadi Road\, Bengaluru\, Karnataka\, 560091\, India
ORGANIZER;CN="CII%20Institute%20of%20Quality":MAILTO:cii-iq@cii.in
END:VEVENT
BEGIN:VEVENT
DTSTART;TZID=Asia/Kolkata:20230524T100000
DTEND;TZID=Asia/Kolkata:20230526T170000
DTSTAMP:20260421T195628
CREATED:20230406T050922Z
LAST-MODIFIED:20230406T050937Z
UID:10000019-1684922400-1685120400@cii-iq.in
SUMMARY:Lean Six Sigma Master Black Belt Program: Module 3
DESCRIPTION:
URL:https://cii-iq.in/event/lean-six-sigma-master-black-belt-program-module-3/
LOCATION:CII-IQ Office\, Magadi Road\, Bengaluru\, Karnataka\, 560091\, India
ORGANIZER;CN="CII%20Institute%20of%20Quality":MAILTO:cii-iq@cii.in
END:VEVENT
BEGIN:VEVENT
DTSTART;TZID=Asia/Kolkata:20230509T100000
DTEND;TZID=Asia/Kolkata:20230512T170000
DTSTAMP:20260421T195628
CREATED:20230406T050851Z
LAST-MODIFIED:20230406T050851Z
UID:10000018-1683626400-1683910800@cii-iq.in
SUMMARY:Lean Six Sigma Master Black Belt Program: Module 2
DESCRIPTION:
URL:https://cii-iq.in/event/lean-six-sigma-master-black-belt-program-module-2/
LOCATION:CII-IQ Office\, Magadi Road\, Bengaluru\, Karnataka\, 560091\, India
ORGANIZER;CN="CII%20Institute%20of%20Quality":MAILTO:cii-iq@cii.in
END:VEVENT
BEGIN:VEVENT
DTSTART;VALUE=DATE:20230429
DTEND;VALUE=DATE:20230430
DTSTAMP:20260421T195628
CREATED:20230406T050126Z
LAST-MODIFIED:20230406T050126Z
UID:10000014-1682726400-1682812799@cii-iq.in
SUMMARY:CII National Technology Competition
DESCRIPTION:
URL:https://cii-iq.in/event/cii-national-technology-competition/
LOCATION:CII-IQ Office\, Magadi Road\, Bengaluru\, Karnataka\, 560091\, India
ORGANIZER;CN="CII%20Institute%20of%20Quality":MAILTO:cii-iq@cii.in
END:VEVENT
BEGIN:VEVENT
DTSTART;TZID=Asia/Kolkata:20230426T103000
DTEND;TZID=Asia/Kolkata:20230428T170000
DTSTAMP:20260421T195628
CREATED:20230406T050526Z
LAST-MODIFIED:20230406T050526Z
UID:10000016-1682505000-1682701200@cii-iq.in
SUMMARY:CII Workshop On Cost Cutting
DESCRIPTION:
URL:https://cii-iq.in/event/cii-workshop-on-cost-cutting/
LOCATION:CII-IQ Office\, Magadi Road\, Bengaluru\, Karnataka\, 560091\, India
ORGANIZER;CN="CII%20Institute%20of%20Quality":MAILTO:cii-iq@cii.in
END:VEVENT
BEGIN:VEVENT
DTSTART;TZID=Asia/Kolkata:20230426T100000
DTEND;TZID=Asia/Kolkata:20230428T170000
DTSTAMP:20260421T195628
CREATED:20230406T050745Z
LAST-MODIFIED:20230406T050745Z
UID:10000017-1682503200-1682701200@cii-iq.in
SUMMARY:Lean Six Sigma Master Black Belt Program: Module 1
DESCRIPTION:
URL:https://cii-iq.in/event/lean-six-sigma-master-black-belt-program-module-1/
LOCATION:CII-IQ Office\, Magadi Road\, Bengaluru\, Karnataka\, 560091\, India
ORGANIZER;CN="CII%20Institute%20of%20Quality":MAILTO:cii-iq@cii.in
END:VEVENT
BEGIN:VEVENT
DTSTART;VALUE=DATE:20230426
DTEND;VALUE=DATE:20230428
DTSTAMP:20260421T195628
CREATED:20230222T162412Z
LAST-MODIFIED:20230222T162412Z
UID:10000011-1682467200-1682639999@cii-iq.in
SUMMARY:Circle Competition
DESCRIPTION:
URL:https://cii-iq.in/event/circle-competition/
LOCATION:CII-IQ Office\, Magadi Road\, Bengaluru\, Karnataka\, 560091\, India
ORGANIZER;CN="CII%20Institute%20of%20Quality":MAILTO:cii-iq@cii.in
END:VEVENT
BEGIN:VEVENT
DTSTART;VALUE=DATE:20230426
DTEND;VALUE=DATE:20230427
DTSTAMP:20260421T195628
CREATED:20230406T050326Z
LAST-MODIFIED:20230406T050609Z
UID:10000015-1682467200-1682553599@cii-iq.in
SUMMARY:6th CII IQ National Safety Practice Competition
DESCRIPTION:
URL:https://cii-iq.in/event/6th-cii-iq-national-safety-practice-competition/
LOCATION:CII-IQ Office\, Magadi Road\, Bengaluru\, Karnataka\, 560091\, India
ORGANIZER;CN="CII%20Institute%20of%20Quality":MAILTO:cii-iq@cii.in
END:VEVENT
END:VCALENDAR